BEGIN:VCALENDAR
VERSION:2.0
PRODID:-//eventon.com NONSGML v1.0//EN
CALSCALE:GREGORIAN
METHOD:PUBLISH
BEGIN:VEVENT
UID:69e8c18d5c0a5
DTSTAMP:20260422T123941Z
DTSTART:20240926T213000Z
DTEND:20240927T000000Z
LOCATION:
SUMMARY:Animal Powers - RMSC
DESCRIPTION:Animal Powers - RMSC\nhttps://roclug.org/events/animal-powers-r
 msc-9-26/
URL:https://roclug.org/events/animal-powers-rmsc-9-26/
END:VEVENT
END:VCALENDAR