BEGIN:VCALENDAR
VERSION:2.0
PRODID:-//eventon.com NONSGML v1.0//EN
CALSCALE:GREGORIAN
METHOD:PUBLISH
BEGIN:VEVENT
UID:69eb706246371
DTSTAMP:20260424T133010Z
DTSTART:20250707T223000Z
DTEND:20250708T010000Z
LOCATION:
SUMMARY:July Monthly Meeting
DESCRIPTION:Check Discord for latest information and event/meeting details\
 ,  https://discord.gg/cCuVFAVfKw Meeting/event details not finalized.\nhttp
 s://roclug.org/events/july-monthly-meeting/
URL:https://roclug.org/events/july-monthly-meeting/
END:VEVENT
END:VCALENDAR