BEGIN:VCALENDAR
VERSION:2.0
PRODID:-//eventon.com NONSGML v1.0//EN
CALSCALE:GREGORIAN
METHOD:PUBLISH
BEGIN:VEVENT
UID:69ed70d9df635
DTSTAMP:20260426T015641Z
DTSTART:20251006T223000Z
DTEND:20251007T013000Z
LOCATION:
SUMMARY:October Club Meeting
DESCRIPTION:Check Discord for latest information and event/meeting details\
 ,  https://discord.gg/cCuVFAVfKw Meeting details not finalized.\nhttps://r
 oclug.org/events/october-club-meeting-3/
URL:https://roclug.org/events/october-club-meeting-3/
END:VEVENT
END:VCALENDAR