BEGIN:VCALENDAR
VERSION:2.0
PRODID:-//eventon.com NONSGML v1.0//EN
CALSCALE:GREGORIAN
METHOD:PUBLISH
BEGIN:VEVENT
UID:69eb7d4e24d6f
DTSTAMP:20260424T142518Z
DTSTART:20260521T220000Z
DTEND:20260522T003000Z
LOCATION:
SUMMARY:CNY Bricks May  Meeting
DESCRIPTION:Join us on Thursday\,  May 21st for our CNY Bricks Chapter mont
 hly meeting!Business begins at 6:30 pm. Please plan on arriving between 6pm
  and 6:15pm. We will discuss our recent and upcoming events. Sharing our Mo
 nthly Build Challenge will take place at the conclusion of business. Monthl
 y Build Challenge Rebirth/Birth[..]\nhttps://roclug.org/events/cny-bricks-m
 ay-meeting-2/
URL:https://roclug.org/events/cny-bricks-may-meeting-2/
END:VEVENT
END:VCALENDAR