BEGIN:VCALENDAR
VERSION:2.0
PRODID:-//eventon.com NONSGML v1.0//EN
CALSCALE:GREGORIAN
METHOD:PUBLISH
BEGIN:VEVENT
UID:69eb74164db20
DTSTAMP:20260424T134558Z
DTSTART:20260618T220000Z
DTEND:20260619T003000Z
LOCATION:
SUMMARY:CNY Bricks June  Meeting
DESCRIPTION:Join us on Thursday\,  June 18th for our CNY Bricks Chapter mon
 thly meeting!Business begins at 6:30 pm. Please plan on arriving between 6p
 m and 6:15pm. We will discuss our recent and upcoming events. Sharing our M
 onthly Build Challenge will take place at the conclusion of business. Month
 ly Build Challenge TBD[..]\nhttps://roclug.org/events/cny-bricks-june-meeti
 ng-2/
URL:https://roclug.org/events/cny-bricks-june-meeting-2/
END:VEVENT
END:VCALENDAR