BEGIN:VCALENDAR
VERSION:2.0
PRODID:-//eventon.com NONSGML v1.0//EN
CALSCALE:GREGORIAN
METHOD:PUBLISH
BEGIN:VEVENT
UID:69eb7fd5ea53c
DTSTAMP:20260424T143605Z
DTSTART:20260627T190000Z
DTEND:20260627T230000Z
LOCATION:
SUMMARY:Caz Pride Fest 2026
DESCRIPTION:CNY Bricks will be displaying at the Caz Pride Fest 2026 in Caz
 enovia\,  NY! The festival takes place at the Lorenzo State Historic Site. 
 Caz Pride Fest has received the "Best Festival/Community Event" by the Syra
 cuse Post Standard/Syracuse.com's Readers Choice Award. This year's theme i
 s Together in Full Color. Visit[..]\nhttps://roclug.org/events/caz-pride-fe
 st-2026/
URL:https://roclug.org/events/caz-pride-fest-2026/
END:VEVENT
END:VCALENDAR